BEGIN:VCALENDAR
VERSION:2.0
PRODID:-//Quarter Phi Back - ECPv6.15.17.1//NONSGML v1.0//EN
CALSCALE:GREGORIAN
METHOD:PUBLISH
X-ORIGINAL-URL:https://quarterphiback.com
X-WR-CALDESC:Events for Quarter Phi Back
REFRESH-INTERVAL;VALUE=DURATION:PT1H
X-Robots-Tag:noindex
X-PUBLISHED-TTL:PT1H
BEGIN:VTIMEZONE
TZID:UTC
BEGIN:STANDARD
TZOFFSETFROM:+0000
TZOFFSETTO:+0000
TZNAME:UTC
DTSTART:20210101T000000
END:STANDARD
END:VTIMEZONE
BEGIN:VEVENT
DTSTART;VALUE=DATE:20230218
DTEND;VALUE=DATE:20230219
DTSTAMP:20260423T163538
CREATED:20220629T194906Z
LAST-MODIFIED:20220630T150307Z
UID:996-1676678400-1676764799@quarterphiback.com
SUMMARY:QUARTER PHI BACK AWARDS
DESCRIPTION:
URL:https://quarterphiback.com/event/quarter-phi-back-awards/
ATTACH;FMTTYPE=image/png:https://quarterphiback.com/wp-content/uploads/2022/05/QPhiB-Coppertext@3x-1.png
END:VEVENT
BEGIN:VEVENT
DTSTART;TZID=UTC:20230212T183000
DTEND;TZID=UTC:20230212T203000
DTSTAMP:20260423T163538
CREATED:20220629T194803Z
LAST-MODIFIED:20220909T150003Z
UID:994-1676226600-1676233800@quarterphiback.com
SUMMARY:SUPER BOWL – GLENDALE\, AZ
DESCRIPTION:
URL:https://quarterphiback.com/event/super-bowl-glendale-az/
END:VEVENT
BEGIN:VEVENT
DTSTART;TZID=UTC:20230109T200000
DTEND;TZID=UTC:20230109T220000
DTSTAMP:20260423T163538
CREATED:20220629T194723Z
LAST-MODIFIED:20220909T145901Z
UID:992-1673294400-1673301600@quarterphiback.com
SUMMARY:CFP NATIONAL CHAMPIONSHIP – INDIANAPOLIS\, IN
DESCRIPTION:
URL:https://quarterphiback.com/event/cfp-national-championship-indianapolis-in/
END:VEVENT
BEGIN:VEVENT
DTSTART;TZID=UTC:20230107T120000
DTEND;TZID=UTC:20230107T140000
DTSTAMP:20260423T163538
CREATED:20220629T194644Z
LAST-MODIFIED:20220909T145821Z
UID:990-1673092800-1673100000@quarterphiback.com
SUMMARY:FCS NATIONAL CHAMPIONSHIP – FRISCO\, TX
DESCRIPTION:
URL:https://quarterphiback.com/event/fcs-national-championship-frisco-tx/
END:VEVENT
BEGIN:VEVENT
DTSTART;VALUE=DATE:20230101
DTEND;VALUE=DATE:20230102
DTSTAMP:20260423T163538
CREATED:20220629T194608Z
LAST-MODIFIED:20220629T194608Z
UID:988-1672531200-1672617599@quarterphiback.com
SUMMARY:ROSE BOWL\, SUGAR BOWL\, ORANGE BOWL\, FIESTA BOWL GAMES
DESCRIPTION:
URL:https://quarterphiback.com/event/rose-bowl-sugar-bowl-orange-bowl-fiesta-bowl-games/
END:VEVENT
BEGIN:VEVENT
DTSTART;TZID=UTC:20221217T200000
DTEND;TZID=UTC:20221217T220000
DTSTAMP:20260423T163538
CREATED:20220629T194541Z
LAST-MODIFIED:20220909T145629Z
UID:986-1671307200-1671314400@quarterphiback.com
SUMMARY:NCAA DIVISION 2 CHAMPIONSHIP – McKINNEY\, TX
DESCRIPTION:
URL:https://quarterphiback.com/event/ncaa-division-2-championship-mckinney-tx/
END:VEVENT
BEGIN:VEVENT
DTSTART;TZID=UTC:20221205T130000
DTEND;TZID=UTC:20221205T130000
DTSTAMP:20260423T163538
CREATED:20220629T194515Z
LAST-MODIFIED:20220630T150525Z
UID:984-1670245200-1670245200@quarterphiback.com
SUMMARY:THE BIP AWARD ANNOUNCEMENTS
DESCRIPTION:
URL:https://quarterphiback.com/event/the-bip-award-announcements/
ATTACH;FMTTYPE=image/png:https://quarterphiback.com/wp-content/uploads/2022/05/QPhiB-Coppertext@3x-1.png
END:VEVENT
BEGIN:VEVENT
DTSTART;TZID=UTC:20221201T130000
DTEND;TZID=UTC:20221201T130000
DTSTAMP:20260423T163538
CREATED:20220629T194430Z
LAST-MODIFIED:20220630T150515Z
UID:982-1669899600-1669899600@quarterphiback.com
SUMMARY:QUARTER PHI BACK AWARDS-CLASS of 2022
DESCRIPTION:QUARTER PHI BACK AWARDS-CLASS of 2022 \nANNOUNCEMENTS @1PM
URL:https://quarterphiback.com/event/quarter-phi-back-awards-class-of-2022/
ATTACH;FMTTYPE=image/png:https://quarterphiback.com/wp-content/uploads/2022/05/QPhiB-Coppertext@3x-1.png
END:VEVENT
BEGIN:VEVENT
DTSTART;VALUE=DATE:20221126
DTEND;VALUE=DATE:20221127
DTSTAMP:20260423T163538
CREATED:20220629T194335Z
LAST-MODIFIED:20220629T194335Z
UID:980-1669420800-1669507199@quarterphiback.com
SUMMARY:BAYOU CLASSIC – NEW ORLEANS (Southern Univ. vs. Grambling)
DESCRIPTION:
URL:https://quarterphiback.com/event/bayou-classic-new-orleans-southern-univ-vs-grambling/
END:VEVENT
BEGIN:VEVENT
DTSTART;VALUE=DATE:20221119
DTEND;VALUE=DATE:20221120
DTSTAMP:20260423T163538
CREATED:20220629T194311Z
LAST-MODIFIED:20220629T194311Z
UID:978-1668816000-1668902399@quarterphiback.com
SUMMARY:FLORIDA CLASSIC – ORLANDO\, FL (B-CU vs. Florida A&M)
DESCRIPTION:
URL:https://quarterphiback.com/event/florida-classic-orlando-fl-b-cu-vs-florida-am/
END:VEVENT
BEGIN:VEVENT
DTSTART;VALUE=DATE:20221029
DTEND;VALUE=DATE:20221030
DTSTAMP:20260423T163538
CREATED:20220629T194239Z
LAST-MODIFIED:20220629T194239Z
UID:976-1667001600-1667087999@quarterphiback.com
SUMMARY:MAGIC CITY CLASSIC – BIRMGHAM\, AL (Ala. St. vs. Ala A&M)
DESCRIPTION:
URL:https://quarterphiback.com/event/magic-city-classic-birmgham-al-ala-st-vs-ala-am/
END:VEVENT
BEGIN:VEVENT
DTSTART;TZID=UTC:20221015T140000
DTEND;TZID=UTC:20221015T160000
DTSTAMP:20260423T163538
CREATED:20220629T194210Z
LAST-MODIFIED:20220909T145425Z
UID:974-1665842400-1665849600@quarterphiback.com
SUMMARY:NORTHWEST CLASSIC – JACKSONVILLE\, FL (Ribault HS vs. Raines HS)
DESCRIPTION:
URL:https://quarterphiback.com/event/northwest-classic-jacksonville-fl-ribault-hs-vs-raines-hs/
END:VEVENT
BEGIN:VEVENT
DTSTART;VALUE=DATE:20221001
DTEND;VALUE=DATE:20221002
DTSTAMP:20260423T163538
CREATED:20220629T194131Z
LAST-MODIFIED:20220629T194131Z
UID:972-1664582400-1664668799@quarterphiback.com
SUMMARY:STATE FAIR CLASSIC – DALLAS\, TX @ (Prairie View A&M vs. Grambling)
DESCRIPTION:
URL:https://quarterphiback.com/event/state-fair-classic-dallas-tx-prairie-view-am-vs-grambling/
END:VEVENT
BEGIN:VEVENT
DTSTART;VALUE=DATE:20220917
DTEND;VALUE=DATE:20220918
DTSTAMP:20260423T163538
CREATED:20220629T194101Z
LAST-MODIFIED:20220629T194101Z
UID:970-1663372800-1663459199@quarterphiback.com
SUMMARY:FISH BOWL CLASSIC – NORFOLK\, VA (Norfolk State vs. Hampton Univ.)
DESCRIPTION:
URL:https://quarterphiback.com/event/fish-bowl-classic-norfolk-va-norfolk-state-vs-hampton-univ/
END:VEVENT
BEGIN:VEVENT
DTSTART;VALUE=DATE:20220910
DTEND;VALUE=DATE:20220911
DTSTAMP:20260423T163538
CREATED:20220629T194038Z
LAST-MODIFIED:20220629T194038Z
UID:968-1662768000-1662854399@quarterphiback.com
SUMMARY:SOUTHERN HERITAGE CLASSIC – MEMPHIS\, TN (Jackson St. vs. Tenn. State)
DESCRIPTION:
URL:https://quarterphiback.com/event/southern-heritage-classic-memphis-tn-jackson-st-vs-tenn-state/
END:VEVENT
BEGIN:VEVENT
DTSTART;VALUE=DATE:20220904
DTEND;VALUE=DATE:20220905
DTSTAMP:20260423T163538
CREATED:20220629T194012Z
LAST-MODIFIED:20220629T194012Z
UID:966-1662249600-1662335999@quarterphiback.com
SUMMARY:ORANGE BLOSSOM CLASSIC – MIAMI\, FL (Jackson St. vs. Florida A&M)
DESCRIPTION:
URL:https://quarterphiback.com/event/orange-blossom-classic-miami-fl-jackson-st-vs-florida-am/
END:VEVENT
BEGIN:VEVENT
DTSTART;VALUE=DATE:20220903
DTEND;VALUE=DATE:20220904
DTSTAMP:20260423T163538
CREATED:20220629T193947Z
LAST-MODIFIED:20220629T193947Z
UID:964-1662163200-1662249599@quarterphiback.com
SUMMARY:B-CU vs. UNIV. MIAMI
DESCRIPTION:
URL:https://quarterphiback.com/event/b-cu-vs-univ-miami/
END:VEVENT
BEGIN:VEVENT
DTSTART;TZID=UTC:20220827T200000
DTEND;TZID=UTC:20220827T220000
DTSTAMP:20260423T163538
CREATED:20220629T193817Z
LAST-MODIFIED:20220909T145357Z
UID:961-1661630400-1661637600@quarterphiback.com
SUMMARY:FLORIDA A&M vs. UNC – CHAPEL HILL\, NC
DESCRIPTION:
URL:https://quarterphiback.com/event/florida-am-vs-unc-chapel-hill-nc/
END:VEVENT
BEGIN:VEVENT
DTSTART;TZID=UTC:20220827T190000
DTEND;TZID=UTC:20220827T210000
DTSTAMP:20260423T163538
CREATED:20220629T193734Z
LAST-MODIFIED:20220909T145315Z
UID:959-1661626800-1661634000@quarterphiback.com
SUMMARY:HOWARD vs. ALABAMA STATE - ATLANTA\, GA
DESCRIPTION:
URL:https://quarterphiback.com/event/howard-vs-alabama-state-atlanta-ga/
END:VEVENT
BEGIN:VEVENT
DTSTART;VALUE=DATE:20220827
DTEND;VALUE=DATE:20220828
DTSTAMP:20260423T163538
CREATED:20220629T193655Z
LAST-MODIFIED:20220629T193655Z
UID:957-1661558400-1661644799@quarterphiback.com
SUMMARY:COLLEGE FOOTBALL SEASON STARTS
DESCRIPTION:
URL:https://quarterphiback.com/event/college-football-season-starts/
END:VEVENT
BEGIN:VEVENT
DTSTART;VALUE=DATE:20220818
DTEND;VALUE=DATE:20220819
DTSTAMP:20260423T163538
CREATED:20220629T193639Z
LAST-MODIFIED:20220629T193639Z
UID:955-1660780800-1660867199@quarterphiback.com
SUMMARY:HIGH SHCOOL FOOTBALL SEASON STARTS
DESCRIPTION:
URL:https://quarterphiback.com/event/high-shcool-football-season-starts/
END:VEVENT
BEGIN:VEVENT
DTSTART;VALUE=DATE:20220802
DTEND;VALUE=DATE:20220803
DTSTAMP:20260423T163538
CREATED:20220629T193620Z
LAST-MODIFIED:20220630T150504Z
UID:953-1659398400-1659484799@quarterphiback.com
SUMMARY:QUARTER PHI BACK 2022 HIGH SCHOOL QB WATCH LIST RELEASED
DESCRIPTION:
URL:https://quarterphiback.com/event/quarter-phi-back-2022-high-school-qb-watch-list-released/
ATTACH;FMTTYPE=image/png:https://quarterphiback.com/wp-content/uploads/2022/05/QPhiB-Coppertext@3x-1.png
END:VEVENT
BEGIN:VEVENT
DTSTART;VALUE=DATE:20220801
DTEND;VALUE=DATE:20220802
DTSTAMP:20260423T163538
CREATED:20220629T193556Z
LAST-MODIFIED:20220629T193556Z
UID:951-1659312000-1659398399@quarterphiback.com
SUMMARY:HIGH SCHOOL MEDIA DAY – JACKSONVILLE\,FL
DESCRIPTION:
URL:https://quarterphiback.com/event/high-school-media-day-jacksonvillefl/
END:VEVENT
BEGIN:VEVENT
DTSTART;TZID=UTC:20220726T090000
DTEND;TZID=UTC:20220726T110000
DTSTAMP:20260423T163538
CREATED:20220629T193534Z
LAST-MODIFIED:20220909T145223Z
UID:949-1658826000-1658833200@quarterphiback.com
SUMMARY:MEAC FOOTBALL MEDIA DAYS – NORFOLK\, VA
DESCRIPTION:
URL:https://quarterphiback.com/event/meac-football-media-days-norfolk-va/
END:VEVENT
BEGIN:VEVENT
DTSTART;TZID=UTC:20220721T150000
DTEND;TZID=UTC:20220721T170000
DTSTAMP:20260423T163538
CREATED:20220629T193453Z
LAST-MODIFIED:20220909T145120Z
UID:947-1658415600-1658422800@quarterphiback.com
SUMMARY:SWAC FOOTBALL MEDIA DAYS – BIRMINGHAM\, AL | ESPN
DESCRIPTION:
URL:https://quarterphiback.com/event/swac-football-media-days-birmingham-al-espn/
END:VEVENT
BEGIN:VEVENT
DTSTART;TZID=UTC:20220719T090000
DTEND;TZID=UTC:20220719T110000
DTSTAMP:20260423T163538
CREATED:20220629T193417Z
LAST-MODIFIED:20220909T145040Z
UID:945-1658221200-1658228400@quarterphiback.com
SUMMARY:CIAA FOOTBALL MEDIA DAYS – RONOAKE\, VA
DESCRIPTION:
URL:https://quarterphiback.com/event/ciaa-football-media-days-ronoake-va/
END:VEVENT
BEGIN:VEVENT
DTSTART;TZID=UTC:20220713T090000
DTEND;TZID=UTC:20220713T110000
DTSTAMP:20260423T163538
CREATED:20220629T193336Z
LAST-MODIFIED:20220909T144941Z
UID:943-1657702800-1657710000@quarterphiback.com
SUMMARY:SIAC FOOTBALL MEDIA DAYS – ATLANTA\, GA
DESCRIPTION:
URL:https://quarterphiback.com/event/siac-football-media-days-atlanta-ga/
END:VEVENT
BEGIN:VEVENT
DTSTART;VALUE=DATE:20220711
DTEND;VALUE=DATE:20220712
DTSTAMP:20260423T163538
CREATED:20220629T193226Z
LAST-MODIFIED:20220630T150453Z
UID:941-1657497600-1657583999@quarterphiback.com
SUMMARY:QUARTER PHI BACK 2022 COLLEGE QB WATCH LIST RELEASED
DESCRIPTION:
URL:https://quarterphiback.com/event/quarter-phi-back-2022-college-qb-watch-list-released/
ATTACH;FMTTYPE=image/png:https://quarterphiback.com/wp-content/uploads/2022/05/QPhiB-Coppertext@3x-1.png
END:VEVENT
END:VCALENDAR